BEGIN:VCALENDAR
VERSION:2.0
PRODID:-//Contratero//ES
CALSCALE:GREGORIAN
METHOD:PUBLISH
BEGIN:VEVENT
UID:SDA 24_2022 14669/2025@contratero.es
DTSTAMP:20260423T081118Z
DTSTART:20251209T235959
DTEND:20251210T005959
SUMMARY:Cierre: Suministro de licencias de software tipo Office 36
DESCRIPTION:Suministro de licencias de software tipo Office 365 o equivalente para los distintos equipos de los puestos de trabajo del Ayuntamiento de Zamora\, a través del correspondiente Sistema Dinámico de Adqu...\\n\\nOrganismo: Alcaldía del Ayuntamiento de Zamora\\n\\nVer en Contratero: https://contratero.es/contracts/SDA 24_2022 14669/2025
URL:https://contratero.es/contracts/SDA 24_2022 14669/2025
STATUS:CONFIRMED
BEGIN:VALARM
TRIGGER:-P1D
ACTION:DISPLAY
DESCRIPTION:Recordatorio: Suministro de licencias de sof
END:VALARM
END:VEVENT
END:VCALENDAR